BEGIN:VCALENDAR
VERSION:2.0
PRODID:-//ChamberMaster//Event Calendar 2.0//EN
METHOD:PUBLISH
X-PUBLISHED-TTL:P1H
REFRESH-INTERVAL:P1H
CALSCALE:GREGORIAN
BEGIN:VTIMEZONE
TZID:America/Los_Angeles
BEGIN:DAYLIGHT
RRULE:FREQ=YEARLY;BYMONTH=3;BYDAY=2SU
DTSTART:20070101T000000
TZOFFSETFROM:-0800
TZOFFSETTO:-0700
TZNAME:Pacific Daylight Time
END:DAYLIGHT
BEGIN:STANDARD
RRULE:FREQ=YEARLY;BYMONTH=11;BYDAY=1SU
DTSTART:20070101T000000
TZOFFSETFROM:-0700
TZOFFSETTO:-0800
TZNAME:Pacific Standard Time
END:STANDARD
END:VTIMEZONE
BEGIN:VEVENT
DTSTART;VALUE=DATE:20260713
DTEND;VALUE=DATE:20260718
TRANSP:TRANSPARENT
X-MICROSOFT-CDO-ALLDAYEVENT:TRUE
SUMMARY:Ambassadors Soccer Camp
DESCRIPTION:July 13-17th:Ambassadors Soccer Camp Time: 9:30am-2pm daily Ambassadors Soccer Camps are designed for children ages 5 14 and offer a fun\, safe\, and positive five-day soccer experience. Campers will learn skills\, play games\, and compete in an encouraging environment led by Christian mentor-coaches from all over the world who care about both athletic and personal growth. Each day also includes a special Bible time\, where kids will hear about faith in Jesus through our Toward the Goal curriculum helping them grow both on and off the field.Whether your child is new to soccer or already loves the game\, this camp is a great place to build confidence\, friendships\, and lasting memories!The cost of camp this year is $180 per camper for the week. Scholarships are also available if needed we want every child to have the opportunity to participate. For more information\, feel free to reach out to Amber at amber@cornerstonecommunity.net.Registration Link: https://ambassadorsfootball.regfox.com/cornerstone-community-church-incline-village-2026
X-ALT-DESC;FMTTYPE=text/html:<!DOCTYPE html><html><head><title></title></head><body aria-disabled="false" spellcheck="false"><p><meta charset="UTF-8"></p><div style="caret-color: rgb(0\, 0\, 0)\; color: rgb(0\, 0\, 0)\; font-family: Helvetica\; font-size: 14px\; font-style: normal\; font-variant-caps: normal\; font-weight: 400\; letter-spacing: normal\; orphans: auto\; text-align: start\; text-indent: 0px\; text-transform: none\; white-space: normal\; widows: auto\; word-spacing: 0px\; -webkit-text-stroke-width: 0px\; text-decoration: none\;"><strong fr-original-style="" style="font-weight: 700\;"><u><font size="4">July 13-17th:</font></u></strong></div><div style="caret-color: rgb(0\, 0\, 0)\; color: rgb(0\, 0\, 0)\; font-family: Helvetica\; font-size: 14px\; font-style: normal\; font-variant-caps: normal\; font-weight: 400\; letter-spacing: normal\; orphans: auto\; text-align: start\; text-indent: 0px\; text-transform: none\; white-space: normal\; widows: auto\; word-spacing: 0px\; -webkit-text-stroke-width: 0px\; text-decoration: none\;"><strong fr-original-style="" style="font-weight: 700\;"><font size="4">Ambassadors Soccer Camp&nbsp\;</font></strong></div><div style="caret-color: rgb(0\, 0\, 0)\; color: rgb(0\, 0\, 0)\; font-family: Helvetica\; font-size: 14px\; font-style: normal\; font-variant-caps: normal\; font-weight: 400\; letter-spacing: normal\; orphans: auto\; text-align: start\; text-indent: 0px\; text-transform: none\; white-space: normal\; widows: auto\; word-spacing: 0px\; -webkit-text-stroke-width: 0px\; text-decoration: none\;"><strong fr-original-style="" style="font-weight: 700\;"><font size="4">Time: 9:30am-2pm daily&nbsp\;</font></strong></div><div style="caret-color: rgb(0\, 0\, 0)\; color: rgb(0\, 0\, 0)\; font-family: Helvetica\; font-size: 14px\; font-style: normal\; font-variant-caps: normal\; font-weight: 400\; letter-spacing: normal\; orphans: auto\; text-align: start\; text-indent: 0px\; text-transform: none\; white-space: normal\; widows: auto\; word-spacing: 0px\; -webkit-text-stroke-width: 0px\; text-decoration: none\;"><p style="color: rgb(0\, 0\, 0)\;"><font size="4">Ambassadors&nbsp\;Soccer Camps are designed for children ages 5&ndash\;14 and offer a fun\, safe\, and positive five-day soccer experience. Campers will learn skills\, play games\, and compete in an encouraging environment led by Christian mentor-coaches from all over the world who care about both athletic and personal growth.&nbsp\;</font><span style="font-size: large\;">Each day also includes a special Bible time\, where kids will hear about faith in Jesus through our&nbsp\;</span><em><font size="4">Toward the Goal&nbsp\;</font></em><span style="font-size: large\;">curriculum&mdash\;helping them grow both on and off the field.</span><span style="font-size: large\;">Whether your child is new to soccer or already loves the game\, this camp is a great place to build confidence\, friendships\, and lasting memories!</span></p><p style="color: rgb(0\, 0\, 0)\;"><font size="4">The cost of camp this year is $180 per camper for the week. Scholarships are also available if needed&mdash\;we want every child to have the opportunity to participate. For more information\, feel free to reach out to Amber at <a fr-original-style="" href="mailto:amber@cornerstonecommunity.net" style="user-select: auto\;" target="_blank">amber@cornerstonecommunity.net</a>.</font></p></div><div style="caret-color: rgb(0\, 0\, 0)\; color: rgb(0\, 0\, 0)\; font-family: Helvetica\; font-size: 14px\; font-style: normal\; font-variant-caps: normal\; font-weight: 400\; letter-spacing: normal\; orphans: auto\; text-align: start\; text-indent: 0px\; text-transform: none\; white-space: normal\; widows: auto\; word-spacing: 0px\; -webkit-text-stroke-width: 0px\; text-decoration: none\;"><strong fr-original-style="" style="font-weight: 700\;"><font size="4"><u>Registration Link:</u>&nbsp\;</font></strong><font size="4"><a fr-original-style="" href="https://ambassadorsfootball.regfox.com/cornerstone-community-church-incline-village-2026" style="user-select: auto\;" target="_blank">https://ambassadorsfootball.regfox.com/cornerstone-community-church-incline-village-2026</a></font></div><p><br></p></body></html>
LOCATION:
UID:e.3015.1449647
SEQUENCE:3
DTSTAMP:20260425T135018Z
URL:https://business.ivcba.org/event-calendar/Details/ambassadors-soccer-camp-1717124?sourceTypeId=Hub
END:VEVENT
END:VCALENDAR
