BEGIN:VCALENDAR
VERSION:2.0
PRODID:-//ChamberMaster//Event Calendar 2.0//EN
METHOD:PUBLISH
X-PUBLISHED-TTL:P1H
REFRESH-INTERVAL:P1H
CALSCALE:GREGORIAN
BEGIN:VTIMEZONE
TZID:America/Los_Angeles
BEGIN:DAYLIGHT
RRULE:FREQ=YEARLY;BYMONTH=3;BYDAY=2SU
DTSTART:20070101T000000
TZOFFSETFROM:-0800
TZOFFSETTO:-0700
TZNAME:Pacific Daylight Time
END:DAYLIGHT
BEGIN:STANDARD
RRULE:FREQ=YEARLY;BYMONTH=11;BYDAY=1SU
DTSTART:20070101T000000
TZOFFSETFROM:-0700
TZOFFSETTO:-0800
TZNAME:Pacific Standard Time
END:STANDARD
END:VTIMEZONE
BEGIN:VEVENT
DTSTART;TZID=America/Los_Angeles:20260502T163000
DTEND;TZID=America/Los_Angeles:20260502T193000
X-MICROSOFT-CDO-ALLDAYEVENT:FALSE
SUMMARY:Cornerstone - Parents Night Out
DESCRIPTION:Parents Night Out Time: 4:30-7:30pmCome support our youth attending Hume Lake Christian Camps this summer! All proceeds from childcare costs will go toward the youth helping run this event. This will be a fun evening full of games\, activities and crafts for ages 8 months-10 years old with dinner provided! We will be splitting kids up based on age in the nursery\, preschool and elementary classrooms where there will be an adult and 3 youth helpers ready to play with your kiddos. Childcare drop off will start at 4:15pm downstairs at Cornerstone Church and we ask that you please be back at the church no later than 7:30pm to pick up your kiddos. Please bring all necessary items for your kiddos and please label them accordingly(diaper bags\, water bottles\, extra change of clothes in case of an accident\, etc.). Registration is open\, but space is limited\, so sign up today!\nRegistration Link: https://ccciv.churchofficechms.com/external/form/16b3a998-14a1-437f-9df1-a1923036f2eb ***There will be another Parents Night Out on June 13th\, so stay tuned for that registration link!
X-ALT-DESC;FMTTYPE=text/html:<!DOCTYPE html><html><head><title></title></head><body aria-disabled="false" data-gr-ext-installed="" data-new-gr-c-s-check-loaded="14.1284.0" data-new-gr-c-s-loaded="14.1284.0" spellcheck="false"><p><meta charset="UTF-8"></p><div style="caret-color: rgb(0\, 0\, 0)\; color: rgb(0\, 0\, 0)\; font-family: Helvetica\; font-size: 14px\; font-style: normal\; font-variant-caps: normal\; font-weight: 400\; letter-spacing: normal\; orphans: auto\; text-align: start\; text-indent: 0px\; text-transform: none\; white-space: normal\; widows: auto\; word-spacing: 0px\; -webkit-text-stroke-width: 0px\; text-decoration: none\;"><font size="4"><strong fr-original-style="" style="font-weight: 700\;">Parents Night Out&nbsp\;</strong></font></div><div style="caret-color: rgb(0\, 0\, 0)\; color: rgb(0\, 0\, 0)\; font-family: Helvetica\; font-size: 14px\; font-style: normal\; font-variant-caps: normal\; font-weight: 400\; letter-spacing: normal\; orphans: auto\; text-align: start\; text-indent: 0px\; text-transform: none\; white-space: normal\; widows: auto\; word-spacing: 0px\; -webkit-text-stroke-width: 0px\; text-decoration: none\;"><font size="4"><strong fr-original-style="" style="font-weight: 700\;">Time: 4:30-7:30pm</strong></font></div><div style="caret-color: rgb(0\, 0\, 0)\; color: rgb(0\, 0\, 0)\; font-family: Helvetica\; font-size: 14px\; font-style: normal\; font-variant-caps: normal\; font-weight: 400\; letter-spacing: normal\; orphans: auto\; text-align: start\; text-indent: 0px\; text-transform: none\; white-space: normal\; widows: auto\; word-spacing: 0px\; -webkit-text-stroke-width: 0px\; text-decoration: none\;"><font size="4"><span style="color: rgb(75\, 75\, 75)\; font-family: sans-serif\; word-spacing: 1px\;">Come support our youth attending Hume Lake Christian Camps this summer! All proceeds from childcare costs will go toward the youth helping run this event. This will be a fun evening full of games\, activities and crafts for ages 8 months-10 years old with dinner provided! We will be splitting kids up based on age in the nursery\, preschool and elementary classrooms where there will be an adult and 3 youth helpers ready to play with your kiddos. Childcare drop off will start at 4:15pm downstairs at Cornerstone Church and we ask that you please be back at the church no later than 7:30pm to pick up your kiddos. Please bring all necessary items for your kiddos and please label them accordingly(diaper bags\, water bottles\, extra change of clothes in case of an accident\, etc.). Registration is open\, but space is limited\, so sign up today!</span><br></font></div><div style="caret-color: rgb(0\, 0\, 0)\; color: rgb(0\, 0\, 0)\; font-family: Helvetica\; font-size: 14px\; font-style: normal\; font-variant-caps: normal\; font-weight: 400\; letter-spacing: normal\; orphans: auto\; text-align: start\; text-indent: 0px\; text-transform: none\; white-space: normal\; widows: auto\; word-spacing: 0px\; -webkit-text-stroke-width: 0px\; text-decoration: none\;"><font size="4"><u><strong fr-original-style="" style="font-weight: 700\;">Registration Link:</strong>&nbsp\;</u><a fr-original-style="" href="https://ccciv.churchofficechms.com/external/form/16b3a998-14a1-437f-9df1-a1923036f2eb" style="user-select: auto\;" target="_blank">https://ccciv.churchofficechms.com/external/form/16b3a998-14a1-437f-9df1-a1923036f2eb</a></font></div><div style="caret-color: rgb(0\, 0\, 0)\; color: rgb(0\, 0\, 0)\; font-family: Helvetica\; font-size: 14px\; font-style: normal\; font-variant-caps: normal\; font-weight: 400\; letter-spacing: normal\; orphans: auto\; text-align: start\; text-indent: 0px\; text-transform: none\; white-space: normal\; widows: auto\; word-spacing: 0px\; -webkit-text-stroke-width: 0px\; text-decoration: none\;"><font size="4">&nbsp\;***There will be another Parents Night Out on June 13th\, so stay tuned for that registration link!</font></div></body></html>
LOCATION:300 Country Club Dr. Incline Village NV 89451
UID:e.3015.1449638
SEQUENCE:3
DTSTAMP:20260425T135634Z
URL:https://business.ivcba.org/event-calendar/Details/cornerstone-parents-night-out-1717123?sourceTypeId=Hub
END:VEVENT
END:VCALENDAR
