BEGIN:VCALENDAR
VERSION:2.0
PRODID:-//ChamberMaster//Event Calendar 2.0//EN
METHOD:PUBLISH
X-PUBLISHED-TTL:P1H
REFRESH-INTERVAL:P1H
CALSCALE:GREGORIAN
BEGIN:VTIMEZONE
TZID:America/Los_Angeles
BEGIN:DAYLIGHT
RRULE:FREQ=YEARLY;BYMONTH=3;BYDAY=2SU
DTSTART:20070101T000000
TZOFFSETFROM:-0800
TZOFFSETTO:-0700
TZNAME:Pacific Daylight Time
END:DAYLIGHT
BEGIN:STANDARD
RRULE:FREQ=YEARLY;BYMONTH=11;BYDAY=1SU
DTSTART:20070101T000000
TZOFFSETFROM:-0700
TZOFFSETTO:-0800
TZNAME:Pacific Standard Time
END:STANDARD
END:VTIMEZONE
BEGIN:VEVENT
DTSTART;TZID=America/Los_Angeles:20260514T170000
DTEND;TZID=America/Los_Angeles:20260514T200000
X-MICROSOFT-CDO-ALLDAYEVENT:FALSE
SUMMARY:Liberty Dogs and Pet Network
DESCRIPTION:MOAA Lake Tahoe Charter\np.p1 {margin: 0.0px 0.0px 8.0px 0.0px\; text-align: center\; font: 11.0px Helvetica\; color: #000000\; min-height: 13.0px} p.p2 {margin: 0.0px 0.0px 8.0px 0.0px\; font: 11.0px Helvetica\; color: #000000} p.p3 {margin: 0.0px 0.0px 8.0px 0.0px\; font: 11.0px Helvetica\; color: #000000\; min-height: 13.0px} p.p4 {margin: 0.0px 0.0px 8.0px 0.0px\; text-align: center\; font: 11.0px Helvetica\; color: #000000} p.p5 {margin: 0.0px 0.0px 8.0px 0.0px\; text-align: center\; font: 12.0px Helvetica\; color: #000000} p.p6 {margin: 0.0px 0.0px 8.0px 0.0px\; font: 12.0px Arial\; color: #1a1a1a} p.p7 {margin: 0.0px 0.0px 8.0px 0.0px\; text-align: center\; font: 12.0px Helvetica\; color: #000000\; min-height: 14.0px} p.p8 {margin: 0.0px 0.0px 5.0px 0.0px\; font: 12.0px Arial\; color: #000000} p.p9 {margin: 0.0px 0.0px 5.0px 0.0px\; font: 12.0px 'Times New Roman'\; color: #000000\; min-height: 15.0px} p.p10 {margin: 0.0px 0.0px 5.0px 0.0px\; text-align: center\; font: 12.0px 'Times New Roman'\; color: #000000} span.s1 {font: 7.3px Helvetica} span.s2 {font: 12.0px Helvetica\; color: #000000} span.s3 {background-color: #ffffff} span.s4 {color: #000000} span.Apple-tab-span {white-space:pre}\n\nThursday\, May 14th\, 2026\,          Doors open at 5:00 PM              \, Dinner Begins at 6:00 PM                                                                               MOAA\, NSF & Vet Club Members $60.00 per personNon-Members and Guests $65.00 per personPet Network Pet Network Lake Tahoe\, an AAHA Accredited 501(c)(3) nonprofit organization\, which encompasses Pet Network Humane Society and Pet Network Community Hospital\, is a premier veterinary practice and animal welfare organization dedicated to saving lives\, promoting wellness\, and strengthening the bond between pets and their families. As a leader in shelter medicine\, rescue\, and adoption services\, Pet Network serves the Lake Tahoe community and beyond with comprehensive medical care and a deep commitment to animal welfare. Through our network of supporters\, volunteers\, and foster families\, we continuously strive to make the world a better place for pets and the people who love them. Liberty Dogs A flagship initiative of the Dave & Cheryl Duffield Foundation\, Liberty Dogs  is a national Service Dog training and placement program for U.S. military Veterans diagnosed with post-traumatic stress syndrome (PTSD). Based in Reno\, Nevada\, and scheduled to open in the Summer of 2026\, Liberty Dogs offers hope and dignity for Veterans seeking support for their healing and recovery. With an emphasis on supporting the whole health of our U.S. Veterans\, Liberty Dogs incorporates a comprehensive wellness and education curriculum into the program. On campus\, Veterans will spend two weeks living and training with their Liberty Service Dog\, leaving prepared to lead more independent and fulfilling lives. All services are offered at no cost to program participants.Liberty Service Dogs  will be trained to conduct a wide variety of tasks through extensive training and development. Our staff place special emphasis on finding the ideal Veteran-Service Dog team. This ambitious initiative aims to serve as a national leader in Veteran support and canine partnerships.Look forward to an evening of discussion and ideas regarding two outstanding local organizationsYour payment via the links below is your RSVPMEMBER  NON MEMBER
X-ALT-DESC;FMTTYPE=text/html:<!DOCTYPE html><html><head><title></title></head><body aria-disabled="false" spellcheck="false"><p>MOAA Lake Tahoe Charter</p><style type="text/css">\np.p1 {margin: 0.0px 0.0px 8.0px 0.0px\; text-align: center\; font: 11.0px Helvetica\; color: #000000\; min-height: 13.0px} p.p2 {margin: 0.0px 0.0px 8.0px 0.0px\; font: 11.0px Helvetica\; color: #000000} p.p3 {margin: 0.0px 0.0px 8.0px 0.0px\; font: 11.0px Helvetica\; color: #000000\; min-height: 13.0px} p.p4 {margin: 0.0px 0.0px 8.0px 0.0px\; text-align: center\; font: 11.0px Helvetica\; color: #000000} p.p5 {margin: 0.0px 0.0px 8.0px 0.0px\; text-align: center\; font: 12.0px Helvetica\; color: #000000} p.p6 {margin: 0.0px 0.0px 8.0px 0.0px\; font: 12.0px Arial\; color: #1a1a1a} p.p7 {margin: 0.0px 0.0px 8.0px 0.0px\; text-align: center\; font: 12.0px Helvetica\; color: #000000\; min-height: 14.0px} p.p8 {margin: 0.0px 0.0px 5.0px 0.0px\; font: 12.0px Arial\; color: #000000} p.p9 {margin: 0.0px 0.0px 5.0px 0.0px\; font: 12.0px 'Times New Roman'\; color: #000000\; min-height: 15.0px} p.p10 {margin: 0.0px 0.0px 5.0px 0.0px\; text-align: center\; font: 12.0px 'Times New Roman'\; color: #000000} span.s1 {font: 7.3px Helvetica} span.s2 {font: 12.0px Helvetica\; color: #000000} span.s3 {background-color: #ffffff} span.s4 {color: #000000} span.Apple-tab-span {white-space:pre}\n</style><p><br></p><p><strong fr-original-style="" style="font-weight: 700\;">Thursday\, May 14</strong><strong fr-original-style="" style="font-weight: 700\;"><sup>th</sup></strong><strong fr-original-style="" style="font-weight: 700\;">\, 2026\, &nbsp\; &nbsp\; &nbsp\; &nbsp\; &nbsp\;Doors open at 5:00 PM &nbsp\; &nbsp\; &nbsp\; &nbsp\; &nbsp\; &nbsp\; &nbsp\;\, Dinner Begins at 6:00 PM</strong></p><p><strong fr-original-style="" style="font-weight: 700\;">&nbsp\; &nbsp\; &nbsp\; &nbsp\; &nbsp\; &nbsp\; &nbsp\; &nbsp\; &nbsp\; &nbsp\; &nbsp\; &nbsp\; &nbsp\; &nbsp\; &nbsp\; &nbsp\; &nbsp\; &nbsp\; &nbsp\; &nbsp\; &nbsp\; &nbsp\; &nbsp\; &nbsp\; &nbsp\; &nbsp\; &nbsp\; &nbsp\; &nbsp\; &nbsp\; &nbsp\; &nbsp\; &nbsp\; &nbsp\; &nbsp\; &nbsp\; &nbsp\; &nbsp\; &nbsp\; &nbsp\;</strong></p><p><strong fr-original-style="" style="font-weight: 700\;">MOAA\, NSF &amp\; Vet Club Members $60.00 per person</strong></p><p><strong fr-original-style="" style="font-weight: 700\;">Non-Members and Guests $65.00 per person</strong></p><p><strong fr-original-style="" style="font-weight: 700\;">Pet Network</strong></p><p><strong fr-original-style="" style="font-weight: 700\;">&nbsp\;</strong>Pet Network Lake Tahoe\, an AAHA Accredited 501(c)(3) nonprofit organization\, which encompasses Pet Network Humane Society and Pet Network Community Hospital\, is a premier veterinary practice and animal welfare organization dedicated to saving lives\, promoting wellness\, and strengthening the bond between pets and their families. As a leader in shelter medicine\, rescue\, and adoption services\, Pet Network serves the Lake Tahoe community and beyond with comprehensive medical care and a deep commitment to animal welfare. Through our network of supporters\, volunteers\, and foster families\, we continuously strive to make the world a better place for pets and the people who love them.&nbsp\;</p><p><strong fr-original-style="" style="font-weight: 700\;">Liberty Dogs&nbsp\;</strong></p><p>A flagship initiative of the Dave &amp\; Cheryl Duffield Foundation\, Liberty Dogs&trade\; is a national Service Dog training and placement program for U.S. military Veterans<strong fr-original-style="" style="font-weight: 700\;">&nbsp\;</strong>diagnosed with&nbsp\;post-traumatic stress syndrome (PTSD). Based in Reno\, Nevada\, and scheduled to open in the Summer of 2026\, Liberty Dogs offers hope and dignity for Veterans seeking support for their healing and recovery. With an emphasis on supporting the whole health of our U.S. Veterans\, Liberty Dogs incorporates a comprehensive wellness and education curriculum into the program.&nbsp\;</p><p>On campus\, Veterans will spend two weeks living and training with their Liberty Service Dog\, leaving prepared to lead more independent and fulfilling lives. All services are offered at no cost to program participants.</p><p>Liberty Service Dogs&trade\; will be trained to conduct a wide variety of tasks through extensive training and development. Our staff place special emphasis on finding the ideal Veteran-Service Dog team. This ambitious initiative aims to serve as a national leader in Veteran support and canine partnerships.</p><p><strong fr-original-style="" style="font-weight: 700\;">Look forward to an evening of discussion and ideas regarding two outstanding local organizations</strong></p><p><strong fr-original-style="" style="font-weight: 700\;">Your payment via the links below is your RSVP</strong></p><p><a fr-original-style="" href="https://buy.stripe.com/8x25kC4WX5Zed3BbusdEs03" rel="noopener noreferrer" style="user-select: auto\;" target="_blank"><strong fr-original-style="" style="font-weight: 700\;">MEMBER &gt\;</strong></a></p><p><a fr-original-style="" href="https://buy.stripe.com/eVq4gygFFcnC9Rp420dEs04" rel="noopener noreferrer" style="user-select: auto\;" target="_blank"><strong fr-original-style="" style="font-weight: 700\;">NON MEMBER &gt\;</strong></a></p></body></html>
LOCATION:955 Fairway Blvd Incline Village NV 89451
UID:e.3015.1451390
SEQUENCE:3
DTSTAMP:20260425T135634Z
URL:https://business.ivcba.org/event-calendar/Details/liberty-dogs-and-pet-network-1719117?sourceTypeId=Hub
END:VEVENT
END:VCALENDAR
